BEGIN:VCALENDAR
VERSION:2.0
PRODID:-//CM Cakes - ECPv6.8.3//NONSGML v1.0//EN
CALSCALE:GREGORIAN
METHOD:PUBLISH
X-ORIGINAL-URL:http://cmcakes.com/es
X-WR-CALDESC:Eventos para CM Cakes
REFRESH-INTERVAL;VALUE=DURATION:PT1H
X-Robots-Tag:noindex
X-PUBLISHED-TTL:PT1H
BEGIN:VTIMEZONE
TZID:UTC
BEGIN:STANDARD
TZOFFSETFROM:+0000
TZOFFSETTO:+0000
TZNAME:UTC
DTSTART:20150101T000000
END:STANDARD
END:VTIMEZONE
BEGIN:VEVENT
DTSTART;TZID=UTC:20151031T100000
DTEND;TZID=UTC:20151031T130000
DTSTAMP:20260421T134643
CREATED:20151002T180149Z
LAST-MODIFIED:20151002T181025Z
UID:838-1446285600-1446296400@cmcakes.com
SUMMARY:Taller de Cupcakes
DESCRIPTION:En el Taller corto de Cupcakes básico se realizarán dos masas distintas y luego se realizarán las decoraciones con diferentes cremas y masa fondat para darles terminaciones decorativas. \nSEPARA TU CUPO
URL:http://cmcakes.com/es/eventos/taller-de-cupcakes/
LOCATION:Taller CM Cakes\, Calle La venturosa 363 Dpto. 402\, Santiago de Surco \, Lima
ATTACH;FMTTYPE=image/jpeg:http://cmcakes.com/es/wp-content/uploads/2015/07/taller-cupcake-basic.jpg
ORGANIZER;CN="Catherine Mantilla":MAILTO:info@cmcakes.com
END:VEVENT
END:VCALENDAR